BEGIN:VCALENDAR
PRODID:-//eluceo/ical//2.0/EN
VERSION:2.0
CALSCALE:GREGORIAN
BEGIN:VEVENT
UID:978ad18adc0585f923acc00ba292bcf8
DTSTAMP:20260423T083845Z
SUMMARY:Lezing Warme Zorg voor Sterrenouders
DESCRIPTION:Conférencier(s): Maud Vanwalleghem - Anne Astrid De Vos - Chri
 stine Vandenhole
URL:https://overijse-zonien.rotary2140.org/fr/agenda/show/70922
DTSTART;TZID=Europe/Zurich:20241127T190000
DTEND;TZID=Europe/Zurich:20241127T220000
LOCATION:De Bosuil - Jesus Eik/Overijse
CATEGORIES:Rotary
END:VEVENT
BEGIN:VTIMEZONE
TZID:Europe/Zurich
BEGIN:STANDARD
DTSTART:20241127T190000
TZNAME:CET
TZOFFSETTO:+0100
TZOFFSETFROM:+0100
END:STANDARD
END:VTIMEZONE
END:VCALENDAR
