BEGIN:VCALENDAR
PRODID:-//eluceo/ical//2.0/EN
VERSION:2.0
CALSCALE:GREGORIAN
BEGIN:VEVENT
UID:7e1511b05aa93139aa0e55fd10634db9
DTSTAMP:20260423T085215Z
SUMMARY:SV in het Afrikapaleis - vooraf BV om 18u
DESCRIPTION:Website: http://www.rcoz.be\nSprekers: Deze vergadering gaat ov
 er Ledenwerving\, Levensloop\, Sociale doelen\, huisreglement + laatste v
 oorbereidingen en afspraken GOLF-event op 17/4   Ieders aanwezigheid + a
 ctieve deelname is méér dan verwacht.Belangrijk:  VOORAFGAAND is er nog
  een BV om 18.00 u
URL:https://overijse-zonien.rotary2140.org/nl/agenda/show/56978
DTSTART;TZID=Europe/Zurich:20230308T180000
DTEND;TZID=Europe/Zurich:20230308T233000
LOCATION:Paleizenlaan\, 3080 Tervuren
CATEGORIES:Rotary
END:VEVENT
BEGIN:VTIMEZONE
TZID:Europe/Zurich
BEGIN:STANDARD
DTSTART:20230308T180000
TZNAME:CET
TZOFFSETTO:+0100
TZOFFSETFROM:+0100
END:STANDARD
END:VTIMEZONE
END:VCALENDAR
